BEGIN:VCALENDAR
VERSION:2.0
PRODID:-//elchingen.de//Veranstaltungen//DE
CALSCALE:GREGORIAN
METHOD:PUBLISH
BEGIN:VEVENT
UID:941-1776613563@elchingen.de
DTSTART:20260424T150000
DTSTAMP:20260419T174603
SUMMARY:Reparatur-Café
DESCRIPTION:15:00 - 18:00 Uhr
Anmeldung unter elchrep@web.de

LOCATION:Haus St. Michael Unterelchingen
URL:https://www.elchingen.de/index.php?id=7
END:VEVENT
END:VCALENDAR