BEGIN:VCALENDAR
VERSION:2.0
PRODID:-//elchingen.de//Veranstaltungen//DE
CALSCALE:GREGORIAN
METHOD:PUBLISH
BEGIN:VEVENT
UID:940-1776613563@elchingen.de
DTSTART:20260419T110000
DTSTAMP:20260419T174603
SUMMARY:Kinderkleiderbasar
DESCRIPTION:11:00 - 13:00 Uhr
LOCATION:Konstantin-Vidal-Haus Oberelchingen
URL:https://www.elchingen.de/index.php?id=7
END:VEVENT
END:VCALENDAR