BEGIN:VCALENDAR
VERSION:2.0
PRODID:-//elchingen.de//Veranstaltungen//DE
CALSCALE:GREGORIAN
METHOD:PUBLISH
BEGIN:VEVENT
UID:938-1776613579@elchingen.de
DTSTART:20260419T100000
DTSTAMP:20260419T174619
SUMMARY:3. Garagenflohmarkt
DESCRIPTION:10:00 - 16:00 Uhr\; bei verschiedenen Haushalten
LOCATION:Unterelchingen
URL:https://www.elchingen.de/index.php?id=7
END:VEVENT
END:VCALENDAR