BEGIN:VCALENDAR
VERSION:2.0
PRODID:-//elchingen.de//Veranstaltungen//DE
CALSCALE:GREGORIAN
METHOD:PUBLISH
BEGIN:VEVENT
UID:935-1776613562@elchingen.de
DTSTART:20260425T083000
DTSTAMP:20260419T174602
SUMMARY:Altpapiersammlung
DESCRIPTION:
LOCATION:Unterelchingen
URL:https://www.elchingen.de/index.php?id=7
END:VEVENT
END:VCALENDAR